BEGIN:VCALENDAR
VERSION:2.0
PRODID:-//Combermere Lodge - ECPv4.1.2//NONSGML v1.0//EN
CALSCALE:GREGORIAN
METHOD:PUBLISH
X-WR-CALNAME:Combermere Lodge
X-ORIGINAL-URL:http://combermere.org.au
X-WR-CALDESC:Events for Combermere Lodge
BEGIN:VEVENT
DTSTART;TZID=UTC+10:20140520T193000
DTEND;TZID=UTC+10:20140520T223000
DTSTAMP:20190301T045640
CREATED:20140403T005601
LAST-MODIFIED:20140404T104028
UID:526-1400614200-1400625000@combermere.org.au
SUMMARY:May 20 2014 Chapter meeting
DESCRIPTION:The agenda will be published when it becomes available.
URL:http://combermere.org.au/event/may-20-2014-chapter-meeting/
LOCATION:42 Salisbury Avenue\, Ivanhoe\, VIC\, 3079\, Australia
CATEGORIES:Regular Chapter Meeting
ORGANIZER;CN="Combermere%20Chapter":MAILTO:scribe.ezra@combermere.org.au
END:VEVENT
END:VCALENDAR