BEGIN:VCALENDAR
VERSION:2.0
PRODID:-//Combermere Lodge - ECPv4.1.2//NONSGML v1.0//EN
CALSCALE:GREGORIAN
METHOD:PUBLISH
X-WR-CALNAME:Combermere Lodge
X-ORIGINAL-URL:http://combermere.org.au
X-WR-CALDESC:Events for Combermere Lodge
BEGIN:VEVENT
DTSTART;TZID=UTC+10:20151020T193000
DTEND;TZID=UTC+10:20151020T223000
DTSTAMP:20190301T045102
CREATED:20150821T103726
LAST-MODIFIED:20150908T105525
UID:854-1445369400-1445380200@combermere.org.au
SUMMARY:Combermere Lodge No 752
DESCRIPTION:The next Regular Meeting of Combermere Lodge will be on October 20\, 2015.\nAgenda:\n\n\tOpen the Lodge at 7:30 pm punctually.\n\tConfirm the Minutes\, as printed and circulated\, of the regular meeting held on 18 August 2015.\n\tReceive the report of the Lodge Committee meeting held on 13 October 2015.\n\tTo Ballot for a Joining Member:\n\tThe 800th Anniversary of Magna Carta; a talk by\nW.Bro. Andrew Crozier-Durham\, PM\, A member of the Army Lodge No. 478 (Vic)\n\tTo take up a collection for charity.\n\tConduct any further Masonic business.\n\tReceive apologies.\n\tClose the Lodge.\nand then retire to the Festive Board\n\nAll Freemasons\, in good standing\, are welcome to attend\, however\, it is important to let us know that you will be attending\, especially if you want to stay for supper.\n\n 
URL:http://combermere.org.au/event/combermere-lodge-october-2015/
LOCATION:42 Salisbury Avenue\, Ivanhoe\, VIC\, 3079\, Australia
CATEGORIES:Regular Lodge Meeting
ORGANIZER;CN="Combermere%20Lodge":MAILTO:secretary@combermere.org.au
END:VEVENT
END:VCALENDAR