BEGIN:VCALENDAR
VERSION:2.0
PRODID:-//Combermere Lodge - ECPv4.1.2//NONSGML v1.0//EN
CALSCALE:GREGORIAN
METHOD:PUBLISH
X-WR-CALNAME:Combermere Lodge
X-ORIGINAL-URL:http://combermere.org.au
X-WR-CALDESC:Events for Combermere Lodge
BEGIN:VEVENT
DTSTART;TZID=UTC+10:20160419T193000
DTEND;TZID=UTC+10:20160419T223000
DTSTAMP:20190301T045143
CREATED:20160229T202100
LAST-MODIFIED:20160229T202100
UID:980-1461094200-1461105000@combermere.org.au
SUMMARY:Combermere Lodge
DESCRIPTION:19 April 2016\n\nMeeting Agenda:\n\n\tOpen the Lodge at 7:30 pm punctually.\n\tConfirm the Minutes\, as printed and circulated\, of the regular meeting held on 16 February 2016.\n\tTo received the report of the Lodge Committee held on Tuesday\, 12 April 2016.\n\tReceive correspondence.\n\tElection of office bearers for the ensuing year:\n\n\tIn accordance with the provisions of Rule 105 declare XXX . elected Worshipful Master for the ensuing year.\n\tIn accordance with the provisions of Rule 112 declare XXX. elected Treasurer for the ensuing year.\n\tTo elect a Tyler.\n\tTo elect 3 members of the Lodge Committee.\n\tTo elect 2 members of the Audit Committee\n\n\n\tTo take up a collection for charity.\n\tConduct any further Masonic business.\n\tReceive apologies.\n\tClose the Lodge.\n
URL:http://combermere.org.au/event/combermere-lodge-2/
LOCATION:42 Salisbury Avenue\, Ivanhoe\, VIC\, 3079\, Australia
ORGANIZER;CN="Combermere%20Lodge":MAILTO:secretary@combermere.org.au
END:VEVENT
END:VCALENDAR