BEGIN:VCALENDAR
VERSION:2.0
PRODID:-//Combermere Lodge - ECPv4.1.2//NONSGML v1.0//EN
CALSCALE:GREGORIAN
METHOD:PUBLISH
X-WR-CALNAME:Combermere Lodge
X-ORIGINAL-URL:http://combermere.org.au
X-WR-CALDESC:Events for Combermere Lodge
BEGIN:VEVENT
DTSTART;TZID=UTC+10:20150915T190000
DTEND;TZID=UTC+10:20150915T223000
DTSTAMP:20190301T045050
CREATED:20150821T103029
LAST-MODIFIED:20150830T012031
UID:853-1442343600-1442356200@combermere.org.au
SUMMARY:Combermere Chapter No. 752
DESCRIPTION:The next Regular Convocation of Combermere Chapter will take place on Tuesday\, September 15\, 2015.\n1. To open the Chapter at 7.00 pm punctually.\n2. To confirm the minutes of the last Regular Convocation held on Tuesday 21 July 2015.\n3. To receive: The Grand Principals of the Supreme Grand Chapter of Victoria and Grand Chapter Officers.\n4. To Install the Principals.\n5. To Invest the Officers of the Chapter.\n6. To take up a collection for Charity.\n7. To transact any further Masonic business.\n8. To Close the Chapter.\n 
URL:http://combermere.org.au/event/combermere-chapter-no-752-ec/
LOCATION:42 Salisbury Avenue\, Ivanhoe\, VIC\, 3079\, Australia
CATEGORIES:Regular Chapter Meeting
ORGANIZER;CN="Combermere%20Chapter":MAILTO:scribe.ezra@combermere.org.au
END:VEVENT
END:VCALENDAR